BEGIN:VCALENDAR
VERSION:2.0
PRODID:-//O&#039;Fallon Downtown - ECPv6.15.20//NONSGML v1.0//EN
CALSCALE:GREGORIAN
METHOD:PUBLISH
X-WR-CALNAME:O&#039;Fallon Downtown
X-ORIGINAL-URL:https://www.ofallondowntowndistrict.com
X-WR-CALDESC:Events for O&#039;Fallon Downtown
REFRESH-INTERVAL;VALUE=DURATION:PT1H
X-Robots-Tag:noindex
X-PUBLISHED-TTL:PT1H
BEGIN:VTIMEZONE
TZID:America/Chicago
BEGIN:DAYLIGHT
TZOFFSETFROM:-0600
TZOFFSETTO:-0500
TZNAME:CDT
DTSTART:20220313T080000
END:DAYLIGHT
BEGIN:STANDARD
TZOFFSETFROM:-0500
TZOFFSETTO:-0600
TZNAME:CST
DTSTART:20221106T070000
END:STANDARD
BEGIN:DAYLIGHT
TZOFFSETFROM:-0600
TZOFFSETTO:-0500
TZNAME:CDT
DTSTART:20230312T080000
END:DAYLIGHT
BEGIN:STANDARD
TZOFFSETFROM:-0500
TZOFFSETTO:-0600
TZNAME:CST
DTSTART:20231105T070000
END:STANDARD
BEGIN:DAYLIGHT
TZOFFSETFROM:-0600
TZOFFSETTO:-0500
TZNAME:CDT
DTSTART:20240310T080000
END:DAYLIGHT
BEGIN:STANDARD
TZOFFSETFROM:-0500
TZOFFSETTO:-0600
TZNAME:CST
DTSTART:20241103T070000
END:STANDARD
END:VTIMEZONE
BEGIN:VEVENT
DTSTART;TZID=America/Chicago:20230729T080000
DTEND;TZID=America/Chicago:20230729T120000
DTSTAMP:20260421T103756
CREATED:20230419T202236Z
LAST-MODIFIED:20230419T202236Z
UID:927-1690617600-1690632000@www.ofallondowntowndistrict.com
SUMMARY:Vine Street Market
DESCRIPTION:The Vine Street Market is back for its fifth season as O’Fallon’s downtown farmers market!  Every Saturday\, May 13 through October 21\, expect the best from over 60 vendors.  In season\, locally grown produce\, cheeses\, coffee\, fresh bread\, locally raised meat\, wine\, mushrooms\, salsa\, prepared foods\, art and more are just a few of the items you can look forward to.  Enjoy live music from 9 am until noon\, yoga starts at 8am\, a centrally located food truck will be there each week\, and the kids POP Club is back.  There is something for everyone\, so come see us between 8am and noon May through October!
URL:https://www.ofallondowntowndistrict.com/event/vine-street-market-41/
LOCATION:Vine Street Market\, 212 E 1st Street\, O'Fallon\, IL\, 62269\, United States
ATTACH;FMTTYPE=image/jpeg:https://www.ofallondowntowndistrict.com/wp-content/uploads/2023/04/2023-VSM-Graphic-for-City-Calendar-e1680809855877.jpg
ORGANIZER;CN="Vine Street Market":MAILTO:parks@ofallon.org
END:VEVENT
BEGIN:VEVENT
DTSTART;TZID=America/Chicago:20230729T100000
DTEND;TZID=America/Chicago:20230729T100000
DTSTAMP:20260421T103756
CREATED:20230419T202655Z
LAST-MODIFIED:20230419T202655Z
UID:936-1690624800-1690624800@www.ofallondowntowndistrict.com
SUMMARY:Bike Surgeon Group Rides
DESCRIPTION:Weekly group rides on Tuesdays and Saturdays for all levels of cyclists. Tuesday rides leave at 6pm\, Saturday rides leave at 10am. \nFollow Bike Surgeon social media for ride updates and information.
URL:https://www.ofallondowntowndistrict.com/event/bike-surgeon-group-rides-28/
LOCATION:IL
ATTACH;FMTTYPE=image/jpeg:https://www.ofallondowntowndistrict.com/wp-content/uploads/2023/04/Bike-Surgeon-Logo-e1681934237138.jpg
END:VEVENT
BEGIN:VEVENT
DTSTART;TZID=America/Chicago:20230729T120000
DTEND;TZID=America/Chicago:20230729T160000
DTSTAMP:20260421T103756
CREATED:20230406T202550Z
LAST-MODIFIED:20230411T134235Z
UID:883-1690632000-1690646400@www.ofallondowntowndistrict.com
SUMMARY:A Wizards Birthday
DESCRIPTION:Celebrate your favorite wizards birthday in the Downtown District!  All things wizardly will be included in this multifaceted event.  Test your HP knowledge in the ultimate trivia challenge\, attend fun classes which resemble the courses the from the movies as well as a one of a kind HP centered shopping experience.  We can’t wait to fill the downtown with all things about our favorite wizard!
URL:https://www.ofallondowntowndistrict.com/event/a-wizards-birthday-2/
LOCATION:IL
CATEGORIES:Downtown Sponsored
ATTACH;FMTTYPE=image/png:https://www.ofallondowntowndistrict.com/wp-content/uploads/2023/04/Logo-Only-e1681220548250.png
END:VEVENT
END:VCALENDAR