BEGIN:VCALENDAR
VERSION:2.0
PRODID:-//O&#039;Fallon Downtown - ECPv6.15.20//NONSGML v1.0//EN
CALSCALE:GREGORIAN
METHOD:PUBLISH
X-WR-CALNAME:O&#039;Fallon Downtown
X-ORIGINAL-URL:https://www.ofallondowntowndistrict.com
X-WR-CALDESC:Events for O&#039;Fallon Downtown
REFRESH-INTERVAL;VALUE=DURATION:PT1H
X-Robots-Tag:noindex
X-PUBLISHED-TTL:PT1H
BEGIN:VTIMEZONE
TZID:America/Chicago
BEGIN:DAYLIGHT
TZOFFSETFROM:-0600
TZOFFSETTO:-0500
TZNAME:CDT
DTSTART:20220313T080000
END:DAYLIGHT
BEGIN:STANDARD
TZOFFSETFROM:-0500
TZOFFSETTO:-0600
TZNAME:CST
DTSTART:20221106T070000
END:STANDARD
BEGIN:DAYLIGHT
TZOFFSETFROM:-0600
TZOFFSETTO:-0500
TZNAME:CDT
DTSTART:20230312T080000
END:DAYLIGHT
BEGIN:STANDARD
TZOFFSETFROM:-0500
TZOFFSETTO:-0600
TZNAME:CST
DTSTART:20231105T070000
END:STANDARD
BEGIN:DAYLIGHT
TZOFFSETFROM:-0600
TZOFFSETTO:-0500
TZNAME:CDT
DTSTART:20240310T080000
END:DAYLIGHT
BEGIN:STANDARD
TZOFFSETFROM:-0500
TZOFFSETTO:-0600
TZNAME:CST
DTSTART:20241103T070000
END:STANDARD
END:VTIMEZONE
BEGIN:VEVENT
DTSTART;TZID=America/Chicago:20230808T180000
DTEND;TZID=America/Chicago:20230808T180000
DTSTAMP:20260421T171529
CREATED:20230419T203045Z
LAST-MODIFIED:20230419T203045Z
UID:946-1691517600-1691517600@www.ofallondowntowndistrict.com
SUMMARY:Bike Surgeon Group Rides
DESCRIPTION:Weekly group rides on Tuesdays and Saturdays for all levels of cyclists. Tuesday rides leave at 6pm\, Saturday rides leave at 10am. \nFollow Bike Surgeon social media for ride updates and information.
URL:https://www.ofallondowntowndistrict.com/event/bike-surgeon-group-rides-34/
LOCATION:IL
ATTACH;FMTTYPE=image/jpeg:https://www.ofallondowntowndistrict.com/wp-content/uploads/2023/04/Bike-Surgeon-Logo-e1681934237138.jpg
END:VEVENT
END:VCALENDAR