BEGIN:VCALENDAR
VERSION:2.0
PRODID:-//O&#039;Fallon Downtown - ECPv6.15.20//NONSGML v1.0//EN
CALSCALE:GREGORIAN
METHOD:PUBLISH
X-ORIGINAL-URL:https://www.ofallondowntowndistrict.com
X-WR-CALDESC:Events for O&#039;Fallon Downtown
REFRESH-INTERVAL;VALUE=DURATION:PT1H
X-Robots-Tag:noindex
X-PUBLISHED-TTL:PT1H
BEGIN:VTIMEZONE
TZID:America/Chicago
BEGIN:DAYLIGHT
TZOFFSETFROM:-0600
TZOFFSETTO:-0500
TZNAME:CDT
DTSTART:20240310T080000
END:DAYLIGHT
BEGIN:STANDARD
TZOFFSETFROM:-0500
TZOFFSETTO:-0600
TZNAME:CST
DTSTART:20241103T070000
END:STANDARD
BEGIN:DAYLIGHT
TZOFFSETFROM:-0600
TZOFFSETTO:-0500
TZNAME:CDT
DTSTART:20250309T080000
END:DAYLIGHT
BEGIN:STANDARD
TZOFFSETFROM:-0500
TZOFFSETTO:-0600
TZNAME:CST
DTSTART:20251102T070000
END:STANDARD
BEGIN:DAYLIGHT
TZOFFSETFROM:-0600
TZOFFSETTO:-0500
TZNAME:CDT
DTSTART:20260308T080000
END:DAYLIGHT
BEGIN:STANDARD
TZOFFSETFROM:-0500
TZOFFSETTO:-0600
TZNAME:CST
DTSTART:20261101T070000
END:STANDARD
END:VTIMEZONE
BEGIN:VEVENT
DTSTART;TZID=America/Chicago:20250513T150000
DTEND;TZID=America/Chicago:20250513T190000
DTSTAMP:20260421T134612
CREATED:20250505T155058Z
LAST-MODIFIED:20250505T155058Z
UID:1135-1747148400-1747162800@www.ofallondowntowndistrict.com
SUMMARY:May Community Food Drive - O'Fallon Food Pantry
DESCRIPTION:Learn More at: ofallonfooddrive.org/events/mayfooddrive
URL:https://www.ofallondowntowndistrict.com/event/may-community-food-drive-ofallon-food-pantry/
LOCATION:O’Fallon Station\, 212 East First Street\, O'Fallon\, IL\, 62269\, United States
END:VEVENT
END:VCALENDAR