BEGIN:VCALENDAR
VERSION:2.0
PRODID:-//O&#039;Fallon Downtown - ECPv6.15.20//NONSGML v1.0//EN
CALSCALE:GREGORIAN
METHOD:PUBLISH
X-ORIGINAL-URL:https://www.ofallondowntowndistrict.com
X-WR-CALDESC:Events for O&#039;Fallon Downtown
REFRESH-INTERVAL;VALUE=DURATION:PT1H
X-Robots-Tag:noindex
X-PUBLISHED-TTL:PT1H
BEGIN:VTIMEZONE
TZID:America/Chicago
BEGIN:DAYLIGHT
TZOFFSETFROM:-0600
TZOFFSETTO:-0500
TZNAME:CDT
DTSTART:20250309T080000
END:DAYLIGHT
BEGIN:STANDARD
TZOFFSETFROM:-0500
TZOFFSETTO:-0600
TZNAME:CST
DTSTART:20251102T070000
END:STANDARD
BEGIN:DAYLIGHT
TZOFFSETFROM:-0600
TZOFFSETTO:-0500
TZNAME:CDT
DTSTART:20260308T080000
END:DAYLIGHT
BEGIN:STANDARD
TZOFFSETFROM:-0500
TZOFFSETTO:-0600
TZNAME:CST
DTSTART:20261101T070000
END:STANDARD
BEGIN:DAYLIGHT
TZOFFSETFROM:-0600
TZOFFSETTO:-0500
TZNAME:CDT
DTSTART:20270314T080000
END:DAYLIGHT
BEGIN:STANDARD
TZOFFSETFROM:-0500
TZOFFSETTO:-0600
TZNAME:CST
DTSTART:20271107T070000
END:STANDARD
END:VTIMEZONE
BEGIN:VEVENT
DTSTART;TZID=America/Chicago:20260429T100000
DTEND;TZID=America/Chicago:20260429T160000
DTSTAMP:20260419T160339
CREATED:20260409T141535Z
LAST-MODIFIED:20260409T141600Z
UID:3408-1777456800-1777478400@www.ofallondowntowndistrict.com
SUMMARY:Last Chance Sale at Toast & Table
DESCRIPTION:During the Last Chance Sale\, select products will be featured at discounts ranging from 40% to 50%. These items are either being discontinued or will no longer be available at Toast and Table\, making this your final opportunity to purchase them. Don’t miss out on grabbing these unique finds before they’re gone for good! \nDiscounts are In-Store only. \nCan’t make it? No worries\, we’ll be holding a Last Chance Sale every Last Wednesday each month!
URL:https://www.ofallondowntowndistrict.com/event/last-chance-sale-at-toast-table/
LOCATION:Toast & Table\, 227 West First Street\, Unit B\, O'Fallon\, IL\, 62269\, United States
ATTACH;FMTTYPE=image/png:https://www.ofallondowntowndistrict.com/wp-content/uploads/2026/04/Last-Chance-Sale-Flyer.png
ORGANIZER;CN="Toast &amp%3B Table":MAILTO:info@toastandtable.com
END:VEVENT
END:VCALENDAR