BEGIN:VCALENDAR
VERSION:2.0
PRODID:-//O&#039;Fallon Downtown - ECPv6.15.20//NONSGML v1.0//EN
CALSCALE:GREGORIAN
METHOD:PUBLISH
X-ORIGINAL-URL:https://www.ofallondowntowndistrict.com
X-WR-CALDESC:Events for O&#039;Fallon Downtown
REFRESH-INTERVAL;VALUE=DURATION:PT1H
X-Robots-Tag:noindex
X-PUBLISHED-TTL:PT1H
BEGIN:VTIMEZONE
TZID:America/Chicago
BEGIN:DAYLIGHT
TZOFFSETFROM:-0600
TZOFFSETTO:-0500
TZNAME:CDT
DTSTART:20220313T080000
END:DAYLIGHT
BEGIN:STANDARD
TZOFFSETFROM:-0500
TZOFFSETTO:-0600
TZNAME:CST
DTSTART:20221106T070000
END:STANDARD
BEGIN:DAYLIGHT
TZOFFSETFROM:-0600
TZOFFSETTO:-0500
TZNAME:CDT
DTSTART:20230312T080000
END:DAYLIGHT
BEGIN:STANDARD
TZOFFSETFROM:-0500
TZOFFSETTO:-0600
TZNAME:CST
DTSTART:20231105T070000
END:STANDARD
BEGIN:DAYLIGHT
TZOFFSETFROM:-0600
TZOFFSETTO:-0500
TZNAME:CDT
DTSTART:20240310T080000
END:DAYLIGHT
BEGIN:STANDARD
TZOFFSETFROM:-0500
TZOFFSETTO:-0600
TZNAME:CST
DTSTART:20241103T070000
END:STANDARD
BEGIN:DAYLIGHT
TZOFFSETFROM:-0600
TZOFFSETTO:-0500
TZNAME:CDT
DTSTART:20250309T080000
END:DAYLIGHT
BEGIN:STANDARD
TZOFFSETFROM:-0500
TZOFFSETTO:-0600
TZNAME:CST
DTSTART:20251102T070000
END:STANDARD
BEGIN:DAYLIGHT
TZOFFSETFROM:-0600
TZOFFSETTO:-0500
TZNAME:CDT
DTSTART:20260308T080000
END:DAYLIGHT
BEGIN:STANDARD
TZOFFSETFROM:-0500
TZOFFSETTO:-0600
TZNAME:CST
DTSTART:20261101T070000
END:STANDARD
END:VTIMEZONE
BEGIN:VEVENT
DTSTART;VALUE=DATE:20250710
DTEND;VALUE=DATE:20250711
DTSTAMP:20260423T070252
CREATED:20250102T170553Z
LAST-MODIFIED:20250102T170952Z
UID:1113-1752105600-1752191999@www.ofallondowntowndistrict.com
SUMMARY:District Nights
DESCRIPTION:
URL:https://www.ofallondowntowndistrict.com/event/district-nights-5/
CATEGORIES:Downtown Sponsored
END:VEVENT
BEGIN:VEVENT
DTSTART;VALUE=DATE:20250605
DTEND;VALUE=DATE:20250606
DTSTAMP:20260423T070252
CREATED:20250102T170432Z
LAST-MODIFIED:20250102T171005Z
UID:1112-1749081600-1749167999@www.ofallondowntowndistrict.com
SUMMARY:District Nights
DESCRIPTION:
URL:https://www.ofallondowntowndistrict.com/event/district-nights-4/
CATEGORIES:Downtown Sponsored
END:VEVENT
BEGIN:VEVENT
DTSTART;VALUE=DATE:20250517
DTEND;VALUE=DATE:20250518
DTSTAMP:20260423T070252
CREATED:20250102T163127Z
LAST-MODIFIED:20250102T170512Z
UID:1111-1747440000-1747526399@www.ofallondowntowndistrict.com
SUMMARY:Strawberry Festival
DESCRIPTION:
URL:https://www.ofallondowntowndistrict.com/event/strawberry-festival-3/
CATEGORIES:Downtown Sponsored
END:VEVENT
BEGIN:VEVENT
DTSTART;VALUE=DATE:20250510
DTEND;VALUE=DATE:20250511
DTSTAMP:20260423T070252
CREATED:20250102T162837Z
LAST-MODIFIED:20250102T162858Z
UID:1110-1746835200-1746921599@www.ofallondowntowndistrict.com
SUMMARY:Vine Street Market Opening Day
DESCRIPTION:
URL:https://www.ofallondowntowndistrict.com/event/vine-street-market-opening-day/
CATEGORIES:Downtown Sponsored
END:VEVENT
BEGIN:VEVENT
DTSTART;VALUE=DATE:20250316
DTEND;VALUE=DATE:20250317
DTSTAMP:20260423T070252
CREATED:20250102T161606Z
LAST-MODIFIED:20250102T172039Z
UID:1109-1742083200-1742169599@www.ofallondowntowndistrict.com
SUMMARY:St. Patrick's Day Grub Crawl
DESCRIPTION:
URL:https://www.ofallondowntowndistrict.com/event/st-patricks-day-grub-crawl-3/
CATEGORIES:Downtown Sponsored
END:VEVENT
BEGIN:VEVENT
DTSTART;TZID=America/Chicago:20250125T110000
DTEND;TZID=America/Chicago:20250125T160000
DTSTAMP:20260423T070252
CREATED:20250102T153150Z
LAST-MODIFIED:20250113T172141Z
UID:1105-1737802800-1737820800@www.ofallondowntowndistrict.com
SUMMARY:Taste of the District
DESCRIPTION:TASTE OF THE DISTRICT\nExperience the flavors of our Downtown District as you stroll\, sip\, and savor small bites from our favorite local restaurants\nBuy your tickets at: ofallondowntowndistrict.ticketspice.com/tasteofthedistrict\n 
URL:https://www.ofallondowntowndistrict.com/event/taste-of-the-district/
CATEGORIES:Downtown Sponsored
ATTACH;FMTTYPE=image/png:https://www.ofallondowntowndistrict.com/wp-content/uploads/2025/01/Untitled-design-30.png
END:VEVENT
BEGIN:VEVENT
DTSTART;VALUE=DATE:20241214
DTEND;VALUE=DATE:20241215
DTSTAMP:20260423T070252
CREATED:20231213T135323Z
LAST-MODIFIED:20231213T135323Z
UID:1037-1734134400-1734220799@www.ofallondowntowndistrict.com
SUMMARY:Home for the Holidays
DESCRIPTION:Home for the Holidays\n 
URL:https://www.ofallondowntowndistrict.com/event/home-for-the-holidays-2/
CATEGORIES:Downtown Sponsored
END:VEVENT
BEGIN:VEVENT
DTSTART;VALUE=DATE:20241130
DTEND;VALUE=DATE:20241201
DTSTAMP:20260423T070252
CREATED:20231213T135251Z
LAST-MODIFIED:20231213T135251Z
UID:1036-1732924800-1733011199@www.ofallondowntowndistrict.com
SUMMARY:Small Business Saturday
DESCRIPTION:Small Business Saturday\n 
URL:https://www.ofallondowntowndistrict.com/event/small-business-saturday-4/
CATEGORIES:Downtown Sponsored
END:VEVENT
BEGIN:VEVENT
DTSTART;VALUE=DATE:20241026
DTEND;VALUE=DATE:20241027
DTSTAMP:20260423T070252
CREATED:20231213T135207Z
LAST-MODIFIED:20241007T194630Z
UID:1035-1729900800-1729987199@www.ofallondowntowndistrict.com
SUMMARY:Halloween Hunt
DESCRIPTION:Halloween Hunt\nFind Clues\, Solve Puzzles \nFind the hidden clues while bar hopping with your friends and earn a chance to win The Halloween Hunt! \nDress in your Halloween theme for a chance to win the team costume contest.  $100 per team\, up to 10 team members. \nSign up for the hunt HERE.
URL:https://www.ofallondowntowndistrict.com/event/halloween-hunt-2/
CATEGORIES:Downtown Sponsored
ATTACH;FMTTYPE=image/png:https://www.ofallondowntowndistrict.com/wp-content/uploads/2023/12/Untitled-design-27-e1728330052159.png
END:VEVENT
BEGIN:VEVENT
DTSTART;VALUE=DATE:20240810
DTEND;VALUE=DATE:20240811
DTSTAMP:20260423T070252
CREATED:20231213T135056Z
LAST-MODIFIED:20231213T141945Z
UID:1033-1723248000-1723334399@www.ofallondowntowndistrict.com
SUMMARY:Watermelon Festival
DESCRIPTION:Watermelon Festival\nCelebrate all things WATERMELON! The Vine Street Market and the O’Fallon Downtown District are collaborating to bring you everything watermelon on this special day.\nThe event will kick off at the Vine Street Market at 8am.\nExpect everything from the actual watermelon to watermelon cookies\, juices\, jewelry and more! So\, if it can be watermelon flavored\, shaped or turned into watermelon fun we will have it!
URL:https://www.ofallondowntowndistrict.com/event/watermelon-festival/
CATEGORIES:Downtown Sponsored
ATTACH;FMTTYPE=image/jpeg:https://www.ofallondowntowndistrict.com/wp-content/uploads/2023/12/Watermelon-Festival-Logo-Black-Font.jpg
END:VEVENT
BEGIN:VEVENT
DTSTART;TZID=America/Chicago:20240801T170000
DTEND;TZID=America/Chicago:20240801T210000
DTSTAMP:20260423T070252
CREATED:20231213T134935Z
LAST-MODIFIED:20231213T134935Z
UID:1031-1722531600-1722546000@www.ofallondowntowndistrict.com
SUMMARY:District Nights
DESCRIPTION:District Nights\n 
URL:https://www.ofallondowntowndistrict.com/event/district-nights-3/
CATEGORIES:Downtown Sponsored
END:VEVENT
BEGIN:VEVENT
DTSTART;VALUE=DATE:20240727
DTEND;VALUE=DATE:20240728
DTSTAMP:20260423T070252
CREATED:20231213T135019Z
LAST-MODIFIED:20240722T163012Z
UID:1032-1722038400-1722124799@www.ofallondowntowndistrict.com
SUMMARY:A Wizard's Birthday
DESCRIPTION:A Wizard’s Birthday\n 
URL:https://www.ofallondowntowndistrict.com/event/a-wizards-birthday-3/
CATEGORIES:Downtown Sponsored
ATTACH;FMTTYPE=image/png:https://www.ofallondowntowndistrict.com/wp-content/uploads/2023/04/Logo-Only-e1681220548250.png
END:VEVENT
BEGIN:VEVENT
DTSTART;TZID=America/Chicago:20240711T170000
DTEND;TZID=America/Chicago:20240711T210000
DTSTAMP:20260423T070252
CREATED:20231213T134756Z
LAST-MODIFIED:20231213T134913Z
UID:1030-1720717200-1720731600@www.ofallondowntowndistrict.com
SUMMARY:District Nights
DESCRIPTION:District Nights\n 
URL:https://www.ofallondowntowndistrict.com/event/district-nights-2/
CATEGORIES:Downtown Sponsored
END:VEVENT
BEGIN:VEVENT
DTSTART;TZID=America/Chicago:20240606T170000
DTEND;TZID=America/Chicago:20240606T210000
DTSTAMP:20260423T070252
CREATED:20231213T134718Z
LAST-MODIFIED:20231213T134835Z
UID:1029-1717693200-1717707600@www.ofallondowntowndistrict.com
SUMMARY:District Nights
DESCRIPTION:District Nights\n 
URL:https://www.ofallondowntowndistrict.com/event/district-nights/
CATEGORIES:Downtown Sponsored
END:VEVENT
BEGIN:VEVENT
DTSTART;VALUE=DATE:20240518
DTEND;VALUE=DATE:20240519
DTSTAMP:20260423T070252
CREATED:20231213T134611Z
LAST-MODIFIED:20240404T212211Z
UID:1028-1715990400-1716076799@www.ofallondowntowndistrict.com
SUMMARY:Strawberry Festival
DESCRIPTION:Strawberry Festival\nJoin us in the O’Fallon\, IL Downtown District during the Vine Street Market for our annual Strawberry Festival! 70 vendors and several downtown businesses will have their best strawberry products available!  Everything from local\, field grown berries to jewelry\, strawberry shortcake\, bath bombs and more. If it can be made out of or made to look like a strawberry we will have it.\n\nIf you are hoping for fresh\, local field grown strawberries\, the early bird gets the worm. Be there when the market opens at 8am\, they are the first thing to sell out!\n\nIn addition to all the strawberry goodness\, live music kicks off at 9am in two different locations within the market. There are plenty of food options to grab breakfast or lunch in the local downtown restaurants\, plus a food truck and several vendors serving hot prepared food during the event.\n\nFollow along on our social channels for more details and then come out for a BERRY good time!
URL:https://www.ofallondowntowndistrict.com/event/strawberry-festival-2/
LOCATION:Vine Street Market\, 212 E 1st Street\, O'Fallon\, IL\, 62269\, United States
CATEGORIES:Downtown Sponsored
ATTACH;FMTTYPE=image/png:https://www.ofallondowntowndistrict.com/wp-content/uploads/2023/12/2024-Strawberry-Festival-Logo-Black-Font-1.png
END:VEVENT
BEGIN:VEVENT
DTSTART;VALUE=DATE:20240427
DTEND;VALUE=DATE:20240428
DTSTAMP:20260423T070252
CREATED:20240404T211854Z
LAST-MODIFIED:20240404T211854Z
UID:1083-1714176000-1714262399@www.ofallondowntowndistrict.com
SUMMARY:Lollipop Ride
DESCRIPTION:Lollipop Ride\nThe O’Fallon Downtown District in collaboration with Bike Surgeon is inviting you to come out and celebrate National Trails Day with us. Enjoy a fun FREE supported ride on our awesome local bike trails with our first ever Lollipop Ride!\nJoin us for this fun bike trail ride from downtown O’Fallon\, Illinois onto the amazing MCT Trail Network with ride distances for all. The five routes range from a family-friendly 2 mile short lollipop to the longest route of the day at 44 miles with awesome stocked rest stations throughout the routes. SAG support will be available for all riders through 1PM that day.\n\nThis will be a fun/family/trail rider focused event\, leaving from Bike Surgeon and proceeding to the bike trail\, heading north on Illini Trail with the longer routes continuing north on the MCT Trail Network. We will have volunteers at all major intersections helping you make your way safely to and back from the trail.\n\nRide check in will open at 8AM at the tent in front of Bike Surgeon and will be open until 9:30AM. All riders must check in\, complete a rider waiver\, and can pick up the map of their chosen distance. Riders can start their ride at any time between 8 and 9:30AM. Ride volunteers are on site to help keep riders safe\, please pay attention to their directions. We will be riding on open roads and open trails with other users\, so please follow all rules of the road and trail etiquette guidelines. Helmets are required to be worn by all participants for the duration of their ride.\nThe ride will finish at Bike Surgeon in the heart of the DownTown District\, where lunch and refreshments will be available for purchase at the many downtown restaurants and bars including: Gears @ Bike Surgeon\, Shooter’s BBQ\, 1st Street Lounge\, Boarding House Bistro\, Peel Brewing\, and Gia’s Pizza. Bring friends\, bring the family\, enjoy a great ride on our local trails and celebrate National Trail Day with us!
URL:https://www.ofallondowntowndistrict.com/event/lollipop-ride/
LOCATION:Bike Surgeon\, 201 East State\, Ofallon\, IL\, 62269\, United States
CATEGORIES:Downtown Sponsored
ATTACH;FMTTYPE=image/jpeg:https://www.ofallondowntowndistrict.com/wp-content/uploads/2024/04/434678055_812978360867034_48707465167233418_n-e1712265517824.jpg
END:VEVENT
BEGIN:VEVENT
DTSTART;VALUE=DATE:20240317
DTEND;VALUE=DATE:20240318
DTSTAMP:20260423T070252
CREATED:20231213T134345Z
LAST-MODIFIED:20240129T202048Z
UID:1026-1710633600-1710719999@www.ofallondowntowndistrict.com
SUMMARY:St. Patrick's Day Grub Crawl
DESCRIPTION:St. Patrick’s Day Grub Crawl\nCome out in your greenest green and make your way around downtown O’Fallon\, Illinois to the participating pubs! They’ll each be offering a different Irish dish around $5 and a lucky drink special.\nParticipating Pubs:\nGears inside Bike Surgeon\nBoarding House Bistro\nVFW\n1st Street Lounge\nMandy’s\nPeel\nThe Upright\nShooters\nAmerican Legion\nLe Ono\nLook for the Leprechauns roaming around downtown to compete in the Stein Holding Competition! $5 per entry\, heat winners get a token to compete in the final championship. Grand Champion takes home bragging rights for a year plus a cash prize.
URL:https://www.ofallondowntowndistrict.com/event/st-patricks-day-grub-crawl-2/
CATEGORIES:Downtown Sponsored
ATTACH;FMTTYPE=image/png:https://www.ofallondowntowndistrict.com/wp-content/uploads/2023/12/St.PatsGrubCrawl_2024_Instagram-e1706559642285.png
END:VEVENT
BEGIN:VEVENT
DTSTART;VALUE=DATE:20240316
DTEND;VALUE=DATE:20240317
DTSTAMP:20260423T070252
CREATED:20231213T134227Z
LAST-MODIFIED:20240129T201939Z
UID:1024-1710547200-1710633599@www.ofallondowntowndistrict.com
SUMMARY:Bunny Hop Shop
DESCRIPTION:Bunny Hop Shop\nShop the Downtown District and Win Prizes. It really is that easy! Participating businesses will have a basket of eggs to choose from. Inside those eggs are a variety of prizes ranging from cash to candy.\nIt’s an easy way to support your local downtown businesses and maybe learn about a new store front or two. So grab your friends\, make it a day\, the Vine Street Market will have a Micro Market on this day as well\, there is plenty to do in your O’Fallon Downtown District\, come out and support!
URL:https://www.ofallondowntowndistrict.com/event/bunny-hop-shop/
CATEGORIES:Downtown Sponsored
ATTACH;FMTTYPE=image/jpeg:https://www.ofallondowntowndistrict.com/wp-content/uploads/2023/12/Bunny-Hop-Shop-Facebook-Post-e1706559403197.jpg
END:VEVENT
BEGIN:VEVENT
DTSTART;TZID=America/Chicago:20240127T130000
DTEND;TZID=America/Chicago:20240127T170000
DTSTAMP:20260423T070252
CREATED:20231213T134108Z
LAST-MODIFIED:20231213T134108Z
UID:1023-1706360400-1706374800@www.ofallondowntowndistrict.com
SUMMARY:Brian Keller Day & Art Expo
DESCRIPTION:Brian Keller Day & Art Expo\nDid someone say O’Fallon photo contest??? \nThe O’Fallon Downtown District is kicking-off the new year with Brian Keller Day 2024\, Saturday\, January 27th from 1:00pm – 5:00pm. Celebrating our favorite local historian\, icon and official photographer of all things O’Fallon\, Brian Keller. This is an amazingly fun day to test your local history and see some incredible photos capturing the best of O’Fallon. \nFestivities start with a fun-for-all trivia walk through the Downtown District from 1:00pm – 3:00pm followed by an O’Fallon-centric photography exhibition and silent auction at O’Fallon Station from 3:00pm – 5:00pm\, bidding closes at 4:30pm. \nDo you have a great photo(s) capturing a part of O’Fallon? If so\, our judges would love to see them! They will be selecting photographs to include in the exhibit and silent auction. The one and only rule; the photo must be of something in O’Fallon. If you would like to participate\, please submit your photos here:\nhttps://ofallondowntowndistrict.regfox.com/brian-keller-day-2024 \nThe trivia walk takes place from 1-3PM with one question at each participating establishment (see list of participating businesses below). Pick up your trivia card at the Station\, starting at 12:45PM and turn it in back to the event officials at the station by 3:15PM. Then stay and enjoy the art\, bid on the silent auction prints on display and enjoy some charcuterie from Boarding House Bistro. \nGears @ Bike Surgeon\nCourage and Grace\nFezziwig’s Marketplace\nFurchild\nRefinery Salon\nSCHWARZ Center\nThree Sisters Crafts\nVFW \nFor those of you who don’t know\, Brian is the President of our local Historical Society\, and resident event photographer; documenting everything in the Downtown District\, Vine Street Market\, and every other event in town with great photos and a persistent smile.\nBrush up on your O’Fallon history and get ready for great art on Brian Keller Day. Come and join us for the fun on Saturday January 27th from 1-5PM! \nDON’T MISS OUT!! Chances to win prizes for your O’Fallon historical knowledge and opportunities to enjoy and bid on prints of the best photography from around O’Fallon. \nCome for the trivia walk\, come for the photography exhibit or COME FOR BOTH!
URL:https://www.ofallondowntowndistrict.com/event/brian-keller-day-art-expo/
CATEGORIES:Downtown Sponsored
ATTACH;FMTTYPE=image/jpeg:https://www.ofallondowntowndistrict.com/wp-content/uploads/2023/01/Brian-Keller-Day-e1673981543160.jpg
END:VEVENT
BEGIN:VEVENT
DTSTART;TZID=America/Chicago:20231208T170000
DTEND;TZID=America/Chicago:20231208T200000
DTSTAMP:20260423T070252
CREATED:20230623T210933Z
LAST-MODIFIED:20231206T150945Z
UID:1007-1702054800-1702065600@www.ofallondowntowndistrict.com
SUMMARY:Home for the Holidays
DESCRIPTION:Home for the Holidays:  EVENT DETAILS UPDATE\nUPDATED DETAILS:  The vendor market portion of the event has moved to Friday\, December 9 from 5-8pm in an attempt to forego the poor weather conditions forecasted for Saturday.  Follow @DowntownDistrictOFallonIL on Facebook for the latest up to date details about which businesses are adjusting their activity times and which are keeping their original times. \n  \nThe Downtown District and Vine Street Market are teaming up again for a unique holiday event on December 9 from 2-6pm.  Formerly known as Tinsel Around Town and Winter Market\, the event will encompass all the wonderful details of both of those events combined into one.  The same exciting vendor market with delicious local food and unique gifts will be open at the O’Fallon Station\, the OTHS Madrigals will amaze everyone with their singing talents\, the caboose will have story time for the kids and keep your eyes peeled for Santa!  Follow the Downtown District and the Vine Street Market social media channels for more details.
URL:https://www.ofallondowntowndistrict.com/event/home-for-the-holidays/
CATEGORIES:Downtown Sponsored
ATTACH;FMTTYPE=image/jpeg:https://www.ofallondowntowndistrict.com/wp-content/uploads/2023/06/Copy-of-UPDATED-TIME-2023-Winter-Market-Home-for-the-Holidays-e1701875378226.jpg
END:VEVENT
BEGIN:VEVENT
DTSTART;VALUE=DATE:20231125
DTEND;VALUE=DATE:20231126
DTSTAMP:20260423T070252
CREATED:20230420T145800Z
LAST-MODIFIED:20230420T145800Z
UID:991-1700870400-1700956799@www.ofallondowntowndistrict.com
SUMMARY:Small Business Saturday
DESCRIPTION:Shop Small\, Shop Local in the O’Fallon Downtown District!
URL:https://www.ofallondowntowndistrict.com/event/small-business-saturday-3/
CATEGORIES:Downtown Sponsored
END:VEVENT
BEGIN:VEVENT
DTSTART;VALUE=DATE:20231103
DTEND;VALUE=DATE:20231106
DTSTAMP:20260423T070252
CREATED:20230420T145639Z
LAST-MODIFIED:20230420T145639Z
UID:990-1698969600-1699228799@www.ofallondowntowndistrict.com
SUMMARY:Holiday Open Houses
DESCRIPTION:Start the winter holiday season off with a stroll through the Downtown District and shop unique business open houses.  A great chance to get a jump start on your holiday shopping and support local! \nFollow the Downtown District social media to see which businesses are participating and what their unique hours or offerings are.
URL:https://www.ofallondowntowndistrict.com/event/holiday-open-houses/
CATEGORIES:Downtown Sponsored
END:VEVENT
BEGIN:VEVENT
DTSTART;TZID=America/Chicago:20231028T170000
DTEND;TZID=America/Chicago:20231028T200000
DTSTAMP:20260423T070252
CREATED:20230420T145142Z
LAST-MODIFIED:20230907T121116Z
UID:987-1698512400-1698523200@www.ofallondowntowndistrict.com
SUMMARY:Halloween Hunt
DESCRIPTION:Halloween Pub Crawl\nFind the hidden clues and solve riddles while bar hopping with your friends and earn a chance to win The Halloween Hunt!  Dress in your Halloween theme for a chance to win the team costume contest.  $100 per team\, up to 10 team members. \nRegister your team today!
URL:https://www.ofallondowntowndistrict.com/event/halloween-hunt/
CATEGORIES:Downtown Sponsored
ATTACH;FMTTYPE=image/jpeg:https://www.ofallondowntowndistrict.com/wp-content/uploads/2023/04/Halloween-Hunt-Flyer-e1694088665333.jpg
END:VEVENT
BEGIN:VEVENT
DTSTART;TZID=America/Chicago:20231014T180000
DTEND;TZID=America/Chicago:20231014T210000
DTSTAMP:20260423T070253
CREATED:20230331T155328Z
LAST-MODIFIED:20230907T120633Z
UID:867-1697306400-1697317200@www.ofallondowntowndistrict.com
SUMMARY:Witches & Wizards Festival
DESCRIPTION:The Witches & Wizards Festival is a fun festival celebrating all that is dark and spooky in the fall season.  Artistic performances\, music and food plus a one of a kind Witches Market with over 50 hand selected vendors.  You will encounter things you never knew existed\, be surrounded by the most interesting creatures and this year we’re combining the activities within the market to enhance your shopping experience. \nPlease keep in mind\, this festival is a celebration of the Halloween season\, it is not associated with any Wiccan practices or rituals.  \nGet your tickets today for the most spectacular fall celebration in the Downtown District! \n 
URL:https://www.ofallondowntowndistrict.com/event/witches-wizards-festival-2/
CATEGORIES:Downtown Sponsored
ATTACH;FMTTYPE=image/png:https://www.ofallondowntowndistrict.com/wp-content/uploads/2023/03/3.png
END:VEVENT
BEGIN:VEVENT
DTSTART;VALUE=DATE:20230901
DTEND;VALUE=DATE:20231001
DTSTAMP:20260423T070253
CREATED:20230419T204037Z
LAST-MODIFIED:20230419T204037Z
UID:953-1693526400-1696118399@www.ofallondowntowndistrict.com
SUMMARY:Fall in Love with the Downtown District
DESCRIPTION:
URL:https://www.ofallondowntowndistrict.com/event/fall-in-love-with-the-downtown-district-2/
CATEGORIES:Downtown Sponsored
END:VEVENT
BEGIN:VEVENT
DTSTART;TZID=America/Chicago:20230803T170000
DTEND;TZID=America/Chicago:20230803T210000
DTSTAMP:20260423T070253
CREATED:20230117T203352Z
LAST-MODIFIED:20230419T174437Z
UID:781-1691082000-1691096400@www.ofallondowntowndistrict.com
SUMMARY:District Nights Concert Series
DESCRIPTION:Live music in the Downtown District\nEnjoy an evening of live music in the O’Fallon Downtown District.  A free event for the whole family to enjoy\, bring your lawn chairs downtown and hang out while listening to live music.  Local downtown bars and restaurants will have food and beverage available for purchase and O’Fallon Parks and Recreation will have fun\, family activities.  For up to date details\, check out the District Nights Facebook event page for more information.
URL:https://www.ofallondowntowndistrict.com/event/downtown-summer-concert-series-2/
CATEGORIES:Downtown Sponsored
ATTACH;FMTTYPE=image/png:https://www.ofallondowntowndistrict.com/wp-content/uploads/2023/01/August-3-District-Nights-Website-Graphic-e1681926259722.png
END:VEVENT
BEGIN:VEVENT
DTSTART;TZID=America/Chicago:20230729T120000
DTEND;TZID=America/Chicago:20230729T160000
DTSTAMP:20260423T070253
CREATED:20230406T202550Z
LAST-MODIFIED:20230411T134235Z
UID:883-1690632000-1690646400@www.ofallondowntowndistrict.com
SUMMARY:A Wizards Birthday
DESCRIPTION:Celebrate your favorite wizards birthday in the Downtown District!  All things wizardly will be included in this multifaceted event.  Test your HP knowledge in the ultimate trivia challenge\, attend fun classes which resemble the courses the from the movies as well as a one of a kind HP centered shopping experience.  We can’t wait to fill the downtown with all things about our favorite wizard!
URL:https://www.ofallondowntowndistrict.com/event/a-wizards-birthday-2/
CATEGORIES:Downtown Sponsored
ATTACH;FMTTYPE=image/png:https://www.ofallondowntowndistrict.com/wp-content/uploads/2023/04/Logo-Only-e1681220548250.png
END:VEVENT
BEGIN:VEVENT
DTSTART;TZID=America/Chicago:20230706T170000
DTEND;TZID=America/Chicago:20230706T210000
DTSTAMP:20260423T070253
CREATED:20230117T203327Z
LAST-MODIFIED:20230419T174238Z
UID:780-1688662800-1688677200@www.ofallondowntowndistrict.com
SUMMARY:District Nights Concert Series
DESCRIPTION:Live music in the Downtown District\nEnjoy an evening of live music in the O’Fallon Downtown District.  A free event for the whole family to enjoy\, bring your lawn chairs downtown and hang out while listening to live music from The Retro Nerds.  Local downtown bars and restaurants will have food and beverage available for purchase and O’Fallon Parks and Recreation will have fun\, family activities.  For up to date details\, check out the District Nights Facebook event page for more information.
URL:https://www.ofallondowntowndistrict.com/event/downtown-summer-concert-series/
CATEGORIES:Downtown Sponsored
ATTACH;FMTTYPE=image/png:https://www.ofallondowntowndistrict.com/wp-content/uploads/2023/01/July-6-District-Nights-Website-Graphic-e1681926072137.png
END:VEVENT
BEGIN:VEVENT
DTSTART;TZID=America/Chicago:20230601T170000
DTEND;TZID=America/Chicago:20230601T210000
DTSTAMP:20260423T070253
CREATED:20230118T143332Z
LAST-MODIFIED:20230419T174306Z
UID:779-1685638800-1685653200@www.ofallondowntowndistrict.com
SUMMARY:District Nights Concert Series
DESCRIPTION:Live music in the Downtown District\nEnjoy an evening of live music in the O’Fallon Downtown District.  A free event for the whole family to enjoy\, bring your lawn chairs downtown and hang out while listening to live music from Champagne Fixx.  Local downtown bars and restaurants will have food and beverage available for purchase and O’Fallon Parks and Recreation will have fun\, family activities.  For up to date details\, check out the District Nights Facebook event page for more information.
URL:https://www.ofallondowntowndistrict.com/event/downtown-summer-concert-series-3/
CATEGORIES:Downtown Sponsored
ATTACH;FMTTYPE=image/png:https://www.ofallondowntowndistrict.com/wp-content/uploads/2023/01/June-1-District-Nights-Website-Graphic-e1681909205844.png
END:VEVENT
BEGIN:VEVENT
DTSTART;VALUE=DATE:20230520
DTEND;VALUE=DATE:20230521
DTSTAMP:20260423T070253
CREATED:20230117T195925Z
LAST-MODIFIED:20230406T195714Z
UID:776-1684540800-1684627199@www.ofallondowntowndistrict.com
SUMMARY:Strawberry Festival
DESCRIPTION:April showers brings May flowers but it also brings all things STRAWBERRY to the O’Fallon Downtown District and the Vine Street Market.\nIf you love strawberries you won’t want to miss this day.  The Vine Street Market vendors and Downtown District businesses get creative with all the products they can make from a simple\, yet delicious\, red berry.  O’Fallon’s farmers market\, the Vine Street Market\, will be open from 8:00am until noon with 60+ vendors.  Most\, if not all\, will feature something strawberry ranging from cartons of fresh\, field picked berries\, to strawberry shortcake\, and flavored cookies\, jams\, breads\, candles\, jewelry and more! \nIf you haven’t gotten your fill at the market\, stroll through the downtown and I bet you’ll find strawberry chocolates\, strawberry donuts\, strawberry art kits….you get the picture.  If you love a good strawberry\, this is the place you will want to be!
URL:https://www.ofallondowntowndistrict.com/event/strawberry-festival/
CATEGORIES:Downtown Sponsored
ATTACH;FMTTYPE=image/jpeg:https://www.ofallondowntowndistrict.com/wp-content/uploads/2023/01/Strawberry-Festival-e1702475158157.jpg
END:VEVENT
END:VCALENDAR