BEGIN:VCALENDAR
VERSION:2.0
PRODID:-//O&#039;Fallon Downtown - ECPv6.15.20//NONSGML v1.0//EN
CALSCALE:GREGORIAN
METHOD:PUBLISH
X-WR-CALNAME:O&#039;Fallon Downtown
X-ORIGINAL-URL:https://www.ofallondowntowndistrict.com
X-WR-CALDESC:Events for O&#039;Fallon Downtown
REFRESH-INTERVAL;VALUE=DURATION:PT1H
X-Robots-Tag:noindex
X-PUBLISHED-TTL:PT1H
BEGIN:VTIMEZONE
TZID:America/Chicago
BEGIN:DAYLIGHT
TZOFFSETFROM:-0600
TZOFFSETTO:-0500
TZNAME:CDT
DTSTART:20220313T080000
END:DAYLIGHT
BEGIN:STANDARD
TZOFFSETFROM:-0500
TZOFFSETTO:-0600
TZNAME:CST
DTSTART:20221106T070000
END:STANDARD
BEGIN:DAYLIGHT
TZOFFSETFROM:-0600
TZOFFSETTO:-0500
TZNAME:CDT
DTSTART:20230312T080000
END:DAYLIGHT
BEGIN:STANDARD
TZOFFSETFROM:-0500
TZOFFSETTO:-0600
TZNAME:CST
DTSTART:20231105T070000
END:STANDARD
BEGIN:DAYLIGHT
TZOFFSETFROM:-0600
TZOFFSETTO:-0500
TZNAME:CDT
DTSTART:20240310T080000
END:DAYLIGHT
BEGIN:STANDARD
TZOFFSETFROM:-0500
TZOFFSETTO:-0600
TZNAME:CST
DTSTART:20241103T070000
END:STANDARD
END:VTIMEZONE
BEGIN:VEVENT
DTSTART;VALUE=DATE:20230317
DTEND;VALUE=DATE:20230318
DTSTAMP:20260425T112251
CREATED:20230117T192110Z
LAST-MODIFIED:20230217T153846Z
UID:768-1679011200-1679097599@www.ofallondowntowndistrict.com
SUMMARY:St. Patrick's Day Grub Crawl
DESCRIPTION:Come out in your greenest green and make your way around downtown O’Fallon\, Illinois to the participating pubs! They’ll each be offering a different Irish dish around $5 and a lucky drink special.  Keep an eye out for the 50/50 raffle leprechaun too! \nNew this year\, Stein Holding Competition!  Winner receives bragging rights for a year and a cash prize.  Cost is $10 per entry\, heats begin at 5:00pm with the championship round kicking off at 7:30pm.  The competition will take place under the the green tent downtown near the Chamber of Commerce.  You won’t want to miss this! \n2023 Participating Pubs \n\nGears Bar & Cafe\nBoarding House Bistro\nVFW\n1st Street Lounge\nPeel Wood Fired Pizza\nMandy’s\nGia’s Pizza
URL:https://www.ofallondowntowndistrict.com/event/st-patricks-day-grub-crawl/
CATEGORIES:Downtown Sponsored
ATTACH;FMTTYPE=image/jpeg:https://www.ofallondowntowndistrict.com/wp-content/uploads/2023/01/2023-DTD-Grub-Crawl-Website-Event-Photo-e1676589357392.jpg
END:VEVENT
BEGIN:VEVENT
DTSTART;VALUE=DATE:20230201
DTEND;VALUE=DATE:20230301
DTSTAMP:20260425T112251
CREATED:20230117T191523Z
LAST-MODIFIED:20230123T192054Z
UID:767-1675209600-1677628799@www.ofallondowntowndistrict.com
SUMMARY:Shop In The Name of Love
DESCRIPTION:Show your love and shop local in the O’Fallon Downtown District this month.  Individual downtown businesses will be supporting a variety of charities and offering various specials this month.    Help them share the love by shopping in the downtown this month!  Follow along on our social media pages for event details and a list of participating businesses.
URL:https://www.ofallondowntowndistrict.com/event/shop-in-the-name-of-love-2/
CATEGORIES:Downtown Sponsored
ATTACH;FMTTYPE=image/jpeg:https://www.ofallondowntowndistrict.com/wp-content/uploads/2023/01/Shop-In-the-Name-of-Love-e1674048840883.jpg
END:VEVENT
END:VCALENDAR